BEGIN:VCALENDAR
VERSION:2.0
PRODID:-//MSF//ICS Creation//DE
METHOD:PUBLISH
BEGIN:VEVENT
DTSTART;TZID=Europe/Berlin:20260313T080000
DTEND;TZID=Europe/Berlin:20260313T103000
LOCATION:Corneliusstraße 12 80469 München
SUMMARY:Wagner Living - Pressefrühstück
END:VEVENT
END:VCALENDAR
