BEGIN:VCALENDAR
VERSION:2.0
PRODID:-//MSF//ICS Creation//DE
METHOD:PUBLISH
BEGIN:VEVENT
DTSTART;TZID=Europe/Berlin:20260312T180000
DTEND;TZID=Europe/Berlin:20260312T210000
LOCATION:
SUMMARY:TALENTS Eröffnungsfeier im Atelier 2
END:VEVENT
END:VCALENDAR
