BEGIN:VCALENDAR
VERSION:2.0
PRODID:-//MSF//ICS Creation//DE
METHOD:PUBLISH
BEGIN:VEVENT
DTSTART;TZID=Europe/Berlin:20260313T160000
DTEND;TZID=Europe/Berlin:20260313T180000
LOCATION:Praterinsel 3-4 80538 München
SUMMARY:Get-together bei ZEITRAUM
END:VEVENT
END:VCALENDAR
