BEGIN:VCALENDAR
VERSION:2.0
PRODID:-//MSF//ICS Creation//DE
METHOD:PUBLISH
BEGIN:VEVENT
DTSTART;TZID=Europe/Berlin:20260313T100000
DTEND;TZID=Europe/Berlin:20260313T120000
LOCATION:Praterinsel 3-4 80538 München
SUMMARY:Neupräsentation bei Mobimex mit Sebastian Herkner
END:VEVENT
END:VCALENDAR
