BEGIN:VCALENDAR
VERSION:2.0
PRODID:-//MSF//ICS Creation//DE
METHOD:PUBLISH
BEGIN:VEVENT
DTSTART;TZID=Europe/Berlin:20260313T090000
DTEND;TZID=Europe/Berlin:20260313T103000
LOCATION:Leopoldstr. 254 80807 München
SUMMARY:COR Pressefrühstück
END:VEVENT
END:VCALENDAR
