BEGIN:VCALENDAR
VERSION:2.0
PRODID:-//MSF//ICS Creation//DE
METHOD:PUBLISH
BEGIN:VEVENT
DTSTART;TZID=Europe/Berlin:20260312T180000
DTEND;TZID=Europe/Berlin:20260312T210000
LOCATION:Praterinsel 3-4 80538 München
SUMMARY:Get-Together und Designtalk mit DCW Gründer Fred Winkler
END:VEVENT
END:VCALENDAR
