BEGIN:VCALENDAR
VERSION:2.0
PRODID:-//MSF//ICS Creation//DE
METHOD:PUBLISH
BEGIN:VEVENT
DTSTART;TZID=Europe/Berlin:20260312T160000
DTEND;TZID=Europe/Berlin:20260312T210000
LOCATION:Gärtnerplatz 1 80469 München
SUMMARY:Original BTC lädt zum Cocktail – Launch der Neotenic Kollektion
END:VEVENT
END:VCALENDAR
