BEGIN:VCALENDAR
VERSION:2.0
PRODID:-//MSF//ICS Creation//DE
METHOD:PUBLISH
BEGIN:VEVENT
DTSTART;TZID=Europe/Berlin:20260312T160000
DTEND;TZID=Europe/Berlin:20260312T163000
LOCATION:Lenbachplatz 4 80333 München
SUMMARY:Designtalk DECO HOME mit Sebastian Herkner
END:VEVENT
END:VCALENDAR
